BEGIN:VCALENDAR
VERSION:2.0
PRODID:-//wp-events-plugin.com//7.2.3.1//EN
TZID:Europe/Zurich
X-WR-TIMEZONE:Europe/Zurich
BEGIN:VEVENT
UID:101@trailnet-nordwestschweiz.ch
DTSTART;TZID=Europe/Zurich:20260624T133000
DTEND;TZID=Europe/Zurich:20260624T163000
DTSTAMP:20260307T072807Z
URL:https://www.trailnet-nordwestschweiz.ch/events/einsteiger-5/
SUMMARY:Einsteiger
DESCRIPTION:
CATEGORIES:Kurs
LOCATION:Trailcenter Aesch\, Landskronstrasse 41\, Aesch\, 4147\, Schweiz
GEO:47.473525;7.587014
X-APPLE-STRUCTURED-LOCATION;VALUE=URI;X-ADDRESS=Landskronstrasse 41\, Aesch
 \, 4147\, Schweiz;X-APPLE-RADIUS=100;X-TITLE=Trailcenter Aesch:geo:47.4735
 25,7.587014
END:VEVENT
BEGIN:VTIMEZONE
TZID:Europe/Zurich
X-LIC-LOCATION:Europe/Zurich
BEGIN:DAYLIGHT
DTSTART:20260329T030000
TZOFFSETFROM:+0100
TZOFFSETTO:+0200
TZNAME:CEST
END:DAYLIGHT
END:VTIMEZONE
END:VCALENDAR